{"text_format":"1","workbook":"xlsx","n_sheets":3,"sheets":["Lookup","Anesthesia Fee Schedule","Ref"],"not_rendered":{"charts":0,"images":3,"macros":1,"external_links":0,"defined_names":2,"comments":0,"pivot_tables":0},"unopened":[],"bounds":{"document_bytes":16777216,"sheet_cells":100000,"rows_first":2000,"rows_last":500,"rows_between":2000,"halvings":0,"cell_chars":16384,"cell_head_chars":4096},"cells_cut":0,"cells_raw":0,"read":"whole","date_system":"1900"}

{"sheet":"Lookup","index":0,"n_rows":6,"n_cols":10,"rows_kept":6,"cut":false,"hidden":false,"merged":[[0,0,0,8],[1,8,1,9],[3,3,3,8]]}
["Code Lookup Tool (Anesthesia Fee Schedule)"]
[null,null,null,"Code","Anesthesia Value","Payment Method","Base Source","FSI","Prior Auth"]
["Enter code -->",100,1,{"$f":"VLOOKUP(C3,Ref!A4:G271,{2,3,4,5,6,7},)","v":100},5,"Base/Time","CMS","A",0,100]
[null,null,null,"NOTE: The MARFS chapters linked below are recommended for your understanding of these codes but are not to be considered explicit context and do not remove your responsibility to bill properly in accordance with the L&I Provider Agreement, applicable RCWs and WACs, and the MARFS in its entirety."]
[null,null,null,"Chapter 2: Information for All Providers"]
[null,null,null,"Chapter 4: Anesthesia Services"]

{"sheet":"Anesthesia Fee Schedule","index":1,"n_rows":380,"n_cols":9,"rows_kept":380,"cut":false,"hidden":false,"merged":[[100,5,100,6],[96,7,96,11],[98,7,98,11],[99,7,99,11],[100,7,100,11],[98,5,98,6],[97,7,97,11],[96,5,96,6],[99,5,99,6],[22,1,26,3],[96,0,100,1],[96,2,100,4],[92,7,92,11],[93,7,93,11],[94,7,94,11],[84,0,84,1],[97,5,97,6],[95,7,95,11],[89,0,92,1],[89,2,92,4],[90,5,90,6],[93,0,95,1],[95,5,95,6],[84,7,84,11],[85,7,85,11],[83,5,83,6],[83,0,83,1],[82,0,82,11],[85,2,88,4],[92,5,92,6],[91,5,91,6],[83,7,83,11],[84,5,84,6],[85,5,85,6],[87,5,87,6],[88,5,88,6],[89,5,89,6],[86,5,86,6],[102,3,102,5],[14,0,14,11],[86,7,86,11],[87,7,87,11],[88,7,88,11],[89,7,89,11],[20,0,20,11],[93,2,95,4],[84,2,84,4],[93,5,93,6],[90,7,90,11],[18,0,18,11],[83,2,83,4],[85,0,88,1],[94,5,94,6],[91,7,91,11]]}
[]
[]
[]
[]
[]
[]
[]
[]
[]
[]
[]
[]
[]
[]
["Anesthesia Services Fee Schedule"]
[]
[]
[]
["Effective for Dates of Service on or After"]
[]
["2022-07-01"]
[]
[null,"To Skip The Keys\n&\nGo To The Fees\nClick Here"]
[]
[]
[]
[]
[]
[]
[]
[]
[]
[]
[]
[]
[]
[]
[]
[]
[]
[]
[]
[]
[]
[]
[]
[]
[]
[]
[]
[]
[]
[]
[]
[]
[]
[]
[]
[]
[]
[]
[]
[]
[]
[]
[]
[]
[]
[]
[]
[]
[]
[]
[]
[]
[]
[]
[]
[]
[]
[]
["ANESTHESIA SERVICES FEE SCHEDULE                   "]
["FIELD KEY:  "]
["Column Title",null,"Column Description",null,null,"Column Values",null,"Value Definitions"]
["CPTÒ CODE",null,"2021 CPT® anesthesia code.",null,null,null,null,"2021 CPT® anesthesia code."]
["ANES VALUE",null,"Indicates the anesthesia base units, maximum dollar value, or coverage for the anesthesia service.",null,null,"Number",null,"Anesthesia base units for services paid with the base and time payment method."]
[null,null,null,null,null,"Dollar Value",null,"Fee schedule dollar value for services paid with the maximum fee method."]
[null,null,null,null,null,"By Report",null,"Service paid on a “by report” basis."]
[null,null,null,null,null,"Not Covered",null,"Procedure code is not covered."]
["PAYMENT METHOD",null,"Indicates the payment method for the anesthesia service.",null,null,"Base/Time",null,"Service paid with base and time units."]
[null,null,null,null,null,"By Report",null,"Service paid on a “by report” basis."]
[null,null,null,null,null,"Maximum Fee",null,"Service paid based on a maximum dollar value."]
[null,null,null,null,null,"Not Covered",null,"Procedure code is not covered,"]
["BASE SOURCE",null,"Indicates the source of the anesthesia base units.",null,null,"CMS",null,"Base unit source is the Centers for Medicare and Medicaid Services (CMS)."]
[null,null,null,null,null,"ASA",null,"Base unit source is the American Society of Anesthesiologists’ Relative Value Guide."]
[null,null,null,null,null,"N/A",null,"Service not paid by base and time unit method"]
["FSI",null,"Fee Schedule Indicator \nThis column indicates the payment status for the procedure code.",null,null,"A",null,"Paid using base units"]
[null,null,null,null,null,"F",null,"Flat Fee developed by the department"]
[null,null,null,null,null,"N",null,"No fee or RVUs available, paid By Report"]
[null,null,null,null,null,"R",null,"Fee set by RBRVS RVUs"]
[null,null,null,null,null,"X",null,"Non-covered code"]
[]
[null,null,null,"Anesthesia Fees"]
[null,null,null,"CPTÒ  CODE","ANES VALUE","PAYMENT METHOD","BASE SOURCE","FSI","PRIOR AUTH"]
[null,null,null,100,5,"Base/Time","CMS","A"]
[null,null,null,102,6,"Base/Time","CMS","A"]
[null,null,null,103,5,"Base/Time","CMS","A"]
[null,null,null,104,4,"Base/Time","CMS","A"]
[null,null,null,120,5,"Base/Time","CMS","A"]
[null,null,null,124,4,"Base/Time","CMS","A"]
[null,null,null,126,4,"Base/Time","CMS","A"]
[null,null,null,140,5,"Base/Time","CMS","A"]
[null,null,null,142,4,"Base/Time","CMS","A"]
[null,null,null,144,6,"Base/Time","CMS","A"]
[null,null,null,145,6,"Base/Time","CMS","A"]
[null,null,null,147,4,"Base/Time","CMS","A"]
[null,null,null,148,4,"Base/Time","CMS","A"]
[null,null,null,160,5,"Base/Time","CMS","A"]
[null,null,null,162,7,"Base/Time","CMS","A"]
[null,null,null,164,4,"Base/Time","CMS","A"]
[null,null,null,170,5,"Base/Time","CMS","A"]
[null,null,null,172,6,"Base/Time","CMS","A"]
[null,null,null,174,6,"Base/Time","CMS","A"]
[null,null,null,176,7,"Base/Time","CMS","A"]
[null,null,null,190,5,"Base/Time","CMS","A"]
[null,null,null,192,7,"Base/Time","CMS","A"]
[null,null,null,210,11,"Base/Time","CMS","A"]
[null,null,null,211,10,"Base/Time","CMS","A"]
[null,null,null,212,5,"Base/Time","CMS","A"]
[null,null,null,214,9,"Base/Time","CMS","A"]
[null,null,null,215,9,"Base/Time","CMS","A"]
[null,null,null,216,15,"Base/Time","CMS","A"]
[null,null,null,218,13,"Base/Time","CMS","A"]
[null,null,null,220,10,"Base/Time","CMS","A"]
[null,null,null,222,6,"Base/Time","CMS","A"]
[null,null,null,300,5,"Base/Time","CMS","A"]
[null,null,null,320,6,"Base/Time","CMS","A"]
[null,null,null,322,3,"Base/Time","CMS","A"]
[null,null,null,326,7,"Not Covered","N/A","X"]
[null,null,null,350,10,"Base/Time","CMS","A"]
[null,null,null,352,5,"Base/Time","CMS","A"]
[null,null,null,400,3,"Base/Time","CMS","A"]
[null,null,null,402,5,"Base/Time","CMS","A"]
[null,null,null,404,5,"Base/Time","CMS","A"]
[null,null,null,406,13,"Base/Time","CMS","A"]
[null,null,null,410,4,"Base/Time","CMS","A"]
[null,null,null,450,5,"Base/Time","CMS","A"]
[null,null,null,454,3,"Base/Time","CMS","A"]
[null,null,null,470,6,"Base/Time","CMS","A"]
[null,null,null,472,10,"Base/Time","CMS","A"]
[null,null,null,474,13,"Base/Time","CMS","A"]
[null,null,null,500,15,"Base/Time","CMS","A"]
[null,null,null,520,6,"Base/Time","CMS","A"]
[null,null,null,522,4,"Base/Time","CMS","A"]
[null,null,null,524,4,"Base/Time","CMS","A"]
[null,null,null,528,8,"Base/Time","CMS","A"]
[null,null,null,529,11,"Not Covered","N/A","X"]
[null,null,null,530,4,"Base/Time","CMS","A"]
[null,null,null,532,4,"Base/Time","CMS","A"]
[null,null,null,534,7,"Base/Time","CMS","A"]
[null,null,null,537,10,"Base/Time","CMS","A"]
[null,null,null,539,18,"Base/Time","CMS","A"]
[null,null,null,540,12,"Base/Time","CMS","A"]
[null,null,null,541,15,"Base/Time","CMS","A"]
[null,null,null,542,15,"Base/Time","CMS","A"]
[null,null,null,546,15,"Base/Time","CMS","A"]
[null,null,null,548,17,"Base/Time","CMS","A"]
[null,null,null,550,10,"Base/Time","CMS","A"]
[null,null,null,560,15,"Base/Time","CMS","A"]
[null,null,null,561,25,"Not Covered","N/A","X"]
[null,null,null,562,20,"Base/Time","CMS","A"]
[null,null,null,563,25,"Base/Time","CMS","A"]
[null,null,null,566,25,"Base/Time","CMS","A"]
[null,null,null,567,18,"Base/Time","CMS","A"]
[null,null,null,580,20,"Base/Time","CMS","A"]
[null,null,null,600,10,"Base/Time","CMS","A"]
[null,null,null,604,13,"Base/Time","CMS","A"]
[null,null,null,620,10,"Base/Time","CMS","A"]
[null,null,null,625,13,"Base/Time","CMS","A"]
[null,null,null,626,15,"Base/Time","CMS","A"]
[null,null,null,630,8,"Base/Time","CMS","A"]
[null,null,null,632,7,"Base/Time","CMS","A"]
[null,null,null,635,4,"Base/Time","CMS","A"]
[null,null,null,640,3,"Base/Time","CMS","A"]
[null,null,null,670,13,"Base/Time","CMS","A"]
[null,null,null,700,4,"Base/Time","CMS","A"]
[null,null,null,702,4,"Base/Time","CMS","A"]
[null,null,null,730,5,"Base/Time","CMS","A"]
[null,null,null,731,5,"Base/Time","CMS","A"]
[null,null,null,732,6,"Base/Time","CMS","A"]
[null,null,null,750,4,"Base/Time","CMS","A"]
[null,null,null,752,6,"Base/Time","CMS","A"]
[null,null,null,754,7,"Base/Time","CMS","A"]
[null,null,null,756,7,"Base/Time","CMS","A"]
[null,null,null,770,15,"Base/Time","CMS","A"]
[null,null,null,790,7,"Base/Time","CMS","A"]
[null,null,null,792,13,"Base/Time","CMS","A"]
[null,null,null,794,8,"Base/Time","CMS","A"]
[null,null,null,796,30,"Not Covered","N/A","A"]
[null,null,null,797,11,"Base/Time","CMS","X"]
[null,null,null,800,4,"Base/Time","CMS","A"]
[null,null,null,802,5,"Base/Time","CMS","A"]
[null,null,null,811,4,"Base/Time","CMS","A"]
[null,null,null,812,3,"Base/Time","CMS","A"]
[null,null,null,813,5,"Not Covered","N/A","A"]
[null,null,null,820,5,"Not Covered","N/A","A"]
[null,null,null,830,4,"Base/Time","CMS","A"]
[null,null,null,832,6,"Base/Time","CMS","A"]
[null,null,null,834,5,"Base/Time","CMS","X"]
[null,null,null,836,6,"Base/Time","CMS","X"]
[null,null,null,840,6,"Base/Time","CMS","A"]
[null,null,null,842,4,"Not Covered","N/A","A"]
[null,null,null,844,7,"Base/Time","CMS","A"]
[null,null,null,846,8,"Base/Time","CMS","A"]
[null,null,null,848,8,"Base/Time","CMS","A"]
[null,null,null,851,6,"Base/Time","CMS","X"]
[null,null,null,860,6,"Base/Time","CMS","A"]
[null,null,null,862,7,"Base/Time","CMS","A"]
[null,null,null,864,8,"Base/Time","CMS","A"]
[null,null,null,865,7,"Base/Time","CMS","A"]
[null,null,null,866,10,"Base/Time","CMS","A"]
[null,null,null,868,10,"Base/Time","CMS","A"]
[null,null,null,870,5,"Base/Time","CMS","A"]
[null,null,null,872,7,"Base/Time","CMS","A"]
[null,null,null,873,5,"Base/Time","CMS","A"]
[null,null,null,880,15,"Base/Time","CMS","A"]
[null,null,null,882,10,"Base/Time","CMS","A"]
[null,null,null,902,5,"Base/Time","CMS","A"]
[null,null,null,904,7,"Base/Time","CMS","A"]
[null,null,null,906,4,"Base/Time","CMS","A"]
[null,null,null,908,6,"Base/Time","CMS","A"]
[null,null,null,910,3,"Base/Time","CMS","A"]
[null,null,null,912,5,"Base/Time","CMS","A"]
[null,null,null,914,5,"Base/Time","CMS","A"]
[null,null,null,916,5,"Base/Time","CMS","A"]
[null,null,null,918,5,"Base/Time","CMS","A"]
[null,null,null,920,3,"Base/Time","CMS","A"]
[null,null,null,921,3,"Base/Time","CMS","A"]
[null,null,null,922,6,"Base/Time","CMS","A"]
[null,null,null,924,4,"Base/Time","CMS","A"]
[null,null,null,926,4,"Base/Time","CMS","A"]
[null,null,null,928,6,"Base/Time","CMS","A"]
[null,null,null,930,4,"Base/Time","CMS","A"]
[null,null,null,932,4,"Base/Time","CMS","A"]
[null,null,null,934,6,"Base/Time","CMS","A"]
[null,null,null,936,8,"Base/Time","CMS","A"]
[null,null,null,938,4,"Base/Time","CMS","A"]
[null,null,null,940,3,"Base/Time","CMS","A"]
[null,null,null,942,4,"Base/Time","CMS","A"]
[null,null,null,944,6,"Base/Time","CMS","A"]
[null,null,null,948,4,"Base/Time","CMS","A"]
[null,null,null,950,5,"Base/Time","CMS","A"]
[null,null,null,952,4,"Base/Time","CMS","A"]
[null,null,null,1112,5,"Base/Time","CMS","A"]
[null,null,null,1120,6,"Base/Time","CMS","A"]
[null,null,null,1130,3,"Base/Time","CMS","A"]
[null,null,null,1140,15,"Base/Time","CMS","A"]
[null,null,null,1150,10,"Base/Time","CMS","A"]
[null,null,null,1160,4,"Base/Time","CMS","A"]
[null,null,null,1170,8,"Base/Time","CMS","A"]
[null,null,null,1173,12,"Base/Time","CMS","A"]
[null,null,null,1200,4,"Base/Time","CMS","A"]
[null,null,null,1202,4,"Base/Time","CMS","A"]
[null,null,null,1210,6,"Base/Time","CMS","A"]
[null,null,null,1212,10,"Base/Time","CMS","A"]
[null,null,null,1214,8,"Base/Time","CMS","A"]
[null,null,null,1215,10,"Base/Time","CMS","A"]
[null,null,null,1220,4,"Base/Time","CMS","A"]
[null,null,null,1230,6,"Base/Time","CMS","A"]
[null,null,null,1232,5,"Base/Time","CMS","A"]
[null,null,null,1234,8,"Base/Time","CMS","A"]
[null,null,null,1250,4,"Base/Time","CMS","A"]
[null,null,null,1260,3,"Base/Time","CMS","A"]
[null,null,null,1270,8,"Base/Time","CMS","A"]
[null,null,null,1272,4,"Base/Time","CMS","A"]
[null,null,null,1274,6,"Base/Time","CMS","A"]
[null,null,null,1320,4,"Base/Time","CMS","A"]
[null,null,null,1340,4,"Base/Time","CMS","A"]
[null,null,null,1360,5,"Base/Time","CMS","A"]
[null,null,null,1380,3,"Base/Time","CMS","A"]
[null,null,null,1382,3,"Base/Time","CMS","A"]
[null,null,null,1390,3,"Base/Time","CMS","A"]
[null,null,null,1392,4,"Base/Time","CMS","A"]
[null,null,null,1400,4,"Base/Time","CMS","A"]
[null,null,null,1402,7,"Base/Time","CMS","A"]
[null,null,null,1404,5,"Base/Time","CMS","A"]
[null,null,null,1420,3,"Base/Time","CMS","A"]
[null,null,null,1430,3,"Base/Time","CMS","A"]
[null,null,null,1432,6,"Base/Time","CMS","A"]
[null,null,null,1440,8,"Base/Time","CMS","A"]
[null,null,null,1442,8,"Base/Time","CMS","A"]
[null,null,null,1444,8,"Base/Time","CMS","A"]
[null,null,null,1462,3,"Base/Time","CMS","A"]
[null,null,null,1464,3,"Base/Time","CMS","A"]
[null,null,null,1470,3,"Base/Time","CMS","A"]
[null,null,null,1472,5,"Base/Time","CMS","A"]
[null,null,null,1474,5,"Base/Time","CMS","A"]
[null,null,null,1480,3,"Base/Time","CMS","A"]
[null,null,null,1482,4,"Base/Time","CMS","A"]
[null,null,null,1484,4,"Base/Time","CMS","A"]
[null,null,null,1486,7,"Base/Time","CMS","A"]
[null,null,null,1490,3,"Base/Time","CMS","A"]
[null,null,null,1500,8,"Base/Time","CMS","A"]
[null,null,null,1502,6,"Base/Time","CMS","A"]
[null,null,null,1520,3,"Base/Time","CMS","A"]
[null,null,null,1522,5,"Base/Time","CMS","A"]
[null,null,null,1610,5,"Base/Time","CMS","A"]
[null,null,null,1620,4,"Base/Time","CMS","A"]
[null,null,null,1622,4,"Base/Time","CMS","A"]
[null,null,null,1630,5,"Base/Time","CMS","A"]
[null,null,null,1634,9,"Base/Time","CMS","A"]
[null,null,null,1636,15,"Base/Time","CMS","A"]
[null,null,null,1638,10,"Base/Time","CMS","A"]
[null,null,null,1650,6,"Base/Time","CMS","A"]
[null,null,null,1652,10,"Base/Time","CMS","A"]
[null,null,null,1654,8,"Base/Time","CMS","A"]
[null,null,null,1656,10,"Base/Time","CMS","A"]
[null,null,null,1670,4,"Base/Time","CMS","A"]
[null,null,null,1680,3,"Base/Time","CMS","A"]
[null,null,null,1710,3,"Base/Time","CMS","A"]
[null,null,null,1712,5,"Base/Time","CMS","A"]
[null,null,null,1714,5,"Base/Time","CMS","A"]
[null,null,null,1716,5,"Base/Time","CMS","A"]
[null,null,null,1730,3,"Base/Time","CMS","A"]
[null,null,null,1732,3,"Base/Time","CMS","A"]
[null,null,null,1740,4,"Base/Time","CMS","A"]
[null,null,null,1742,5,"Base/Time","CMS","A"]
[null,null,null,1744,5,"Base/Time","CMS","A"]
[null,null,null,1756,6,"Base/Time","CMS","A"]
[null,null,null,1758,5,"Base/Time","CMS","A"]
[null,null,null,1760,7,"Base/Time","CMS","A"]
[null,null,null,1770,6,"Base/Time","CMS","A"]
[null,null,null,1772,6,"Base/Time","CMS","A"]
[null,null,null,1780,3,"Base/Time","CMS","A"]
[null,null,null,1782,4,"Base/Time","CMS","A"]
[null,null,null,1810,3,"Base/Time","CMS","A"]
[null,null,null,1820,3,"Base/Time","CMS","A"]
[null,null,null,1829,3,"Base/Time","CMS","A"]
[null,null,null,1830,3,"Base/Time","CMS","A"]
[null,null,null,1832,6,"Base/Time","CMS","A"]
[null,null,null,1840,6,"Base/Time","CMS","A"]
[null,null,null,1842,6,"Base/Time","CMS","A"]
[null,null,null,1844,6,"Base/Time","CMS","A"]
[null,null,null,1850,3,"Base/Time","CMS","A"]
[null,null,null,1852,4,"Base/Time","CMS","A"]
[null,null,null,1860,3,"Base/Time","CMS","A"]
[null,null,null,1916,5,"Base/Time","CMS","A"]
[null,null,null,1920,7,"Base/Time","CMS","A"]
[null,null,null,1922,7,"Base/Time","CMS","A"]
[null,null,null,1924,5,"Base/Time","CMS","A"]
[null,null,null,1925,7,"Base/Time","CMS","A"]
[null,null,null,1926,8,"Base/Time","CMS","A"]
[null,null,null,1930,5,"Base/Time","CMS","A"]
[null,null,null,1931,7,"Base/Time","CMS","A"]
[null,null,null,1932,6,"Base/Time","CMS","A"]
[null,null,null,1933,7,"Base/Time","CMS","A"]
[null,null,null,1937,4,"Base/Time","CMS","A"]
[null,null,null,1938,4,"Base/Time","CMS","A"]
[null,null,null,1939,4,"Base/Time","CMS","A"]
[null,null,null,1940,4,"Base/Time","CMS","A"]
[null,null,null,1941,5,"Base/Time","CMS","A"]
[null,null,null,1942,5,"Base/Time","CMS","A"]
[null,null,null,1951,3,"Base/Time","CMS","A"]
[null,null,null,1952,5,"Base/Time","CMS","A"]
[null,null,null,1953,56.25,"Maximum Fee","N/A","F"]
[null,null,null,1958,5,"Base/Time","CMS","A"]
[null,null,null,1960,5,"Base/Time","CMS","A"]
[null,null,null,1961,7,"Base/Time","CMS","A"]
[null,null,null,1962,8,"Base/Time","CMS","A"]
[null,null,null,1963,8,"Base/Time","CMS","A"]
[null,null,null,1965,4,"Base/Time","CMS","A"]
[null,null,null,1966,4,"Base/Time","CMS","A"]
[null,null,null,1967,5,"Base/Time","CMS","A"]
[null,null,null,1968,2,"Base/Time","CMS","A"]
[null,null,null,1969,5,"Base/Time","CMS","A"]
[null,null,null,1990,7,"Base/Time","CMS","A"]
[null,null,null,1991,3,"Base/Time","CMS","A"]
[null,null,null,1992,5,"Base/Time","CMS","A"]
[null,null,null,1996,74.66,"Maximum Fee","N/A","F"]
[null,null,null,1999,0,"By Report","N/A","N"]

{"sheet":"Ref","index":2,"n_rows":279,"n_cols":6,"rows_kept":279,"cut":false,"hidden":true,"merged":[]}
[]
[]
[]
[{"$f":"SEARCH(Lookup!$J$3,B4)","v":1},100,5,"Base/Time","CMS","A"]
[{"$f":"SEARCH(Lookup!$J$3,B5)","v":{"$error":"#VALUE!"}},102,6,"Base/Time","CMS","A"]
[{"$f":"SEARCH(Lookup!$J$3,B6)","v":{"$error":"#VALUE!"}},103,5,"Base/Time","CMS","A"]
[{"$f":"SEARCH(Lookup!$J$3,B7)","v":{"$error":"#VALUE!"}},104,4,"Base/Time","CMS","A"]
[{"$f":"SEARCH(Lookup!$J$3,B8)","v":{"$error":"#VALUE!"}},120,5,"Base/Time","CMS","A"]
[{"$f":"SEARCH(Lookup!$J$3,B9)","v":{"$error":"#VALUE!"}},124,4,"Base/Time","CMS","A"]
[{"$f":"SEARCH(Lookup!$J$3,B10)","v":{"$error":"#VALUE!"}},126,4,"Base/Time","CMS","A"]
[{"$f":"SEARCH(Lookup!$J$3,B11)","v":{"$error":"#VALUE!"}},140,5,"Base/Time","CMS","A"]
[{"$f":"SEARCH(Lookup!$J$3,B12)","v":{"$error":"#VALUE!"}},142,4,"Base/Time","CMS","A"]
[{"$f":"SEARCH(Lookup!$J$3,B13)","v":{"$error":"#VALUE!"}},144,6,"Base/Time","CMS","A"]
[{"$f":"SEARCH(Lookup!$J$3,B14)","v":{"$error":"#VALUE!"}},145,6,"Base/Time","CMS","A"]
[{"$f":"SEARCH(Lookup!$J$3,B15)","v":{"$error":"#VALUE!"}},147,4,"Base/Time","CMS","A"]
[{"$f":"SEARCH(Lookup!$J$3,B16)","v":{"$error":"#VALUE!"}},148,4,"Base/Time","CMS","A"]
[{"$f":"SEARCH(Lookup!$J$3,B17)","v":{"$error":"#VALUE!"}},160,5,"Base/Time","CMS","A"]
[{"$f":"SEARCH(Lookup!$J$3,B18)","v":{"$error":"#VALUE!"}},162,7,"Base/Time","CMS","A"]
[{"$f":"SEARCH(Lookup!$J$3,B19)","v":{"$error":"#VALUE!"}},164,4,"Base/Time","CMS","A"]
[{"$f":"SEARCH(Lookup!$J$3,B20)","v":{"$error":"#VALUE!"}},170,5,"Base/Time","CMS","A"]
[{"$f":"SEARCH(Lookup!$J$3,B21)","v":{"$error":"#VALUE!"}},172,6,"Base/Time","CMS","A"]
[{"$f":"SEARCH(Lookup!$J$3,B22)","v":{"$error":"#VALUE!"}},174,6,"Base/Time","CMS","A"]
[{"$f":"SEARCH(Lookup!$J$3,B23)","v":{"$error":"#VALUE!"}},176,7,"Base/Time","CMS","A"]
[{"$f":"SEARCH(Lookup!$J$3,B24)","v":{"$error":"#VALUE!"}},190,5,"Base/Time","CMS","A"]
[{"$f":"SEARCH(Lookup!$J$3,B25)","v":{"$error":"#VALUE!"}},192,7,"Base/Time","CMS","A"]
[{"$f":"SEARCH(Lookup!$J$3,B26)","v":{"$error":"#VALUE!"}},210,11,"Base/Time","CMS","A"]
[{"$f":"SEARCH(Lookup!$J$3,B27)","v":{"$error":"#VALUE!"}},211,10,"Base/Time","CMS","A"]
[{"$f":"SEARCH(Lookup!$J$3,B28)","v":{"$error":"#VALUE!"}},212,5,"Base/Time","CMS","A"]
[{"$f":"SEARCH(Lookup!$J$3,B29)","v":{"$error":"#VALUE!"}},214,9,"Base/Time","CMS","A"]
[{"$f":"SEARCH(Lookup!$J$3,B30)","v":{"$error":"#VALUE!"}},215,9,"Base/Time","CMS","A"]
[{"$f":"SEARCH(Lookup!$J$3,B31)","v":{"$error":"#VALUE!"}},216,15,"Base/Time","CMS","A"]
[{"$f":"SEARCH(Lookup!$J$3,B32)","v":{"$error":"#VALUE!"}},218,13,"Base/Time","CMS","A"]
[{"$f":"SEARCH(Lookup!$J$3,B33)","v":{"$error":"#VALUE!"}},220,10,"Base/Time","CMS","A"]
[{"$f":"SEARCH(Lookup!$J$3,B34)","v":{"$error":"#VALUE!"}},222,6,"Base/Time","CMS","A"]
[{"$f":"SEARCH(Lookup!$J$3,B35)","v":{"$error":"#VALUE!"}},300,5,"Base/Time","CMS","A"]
[{"$f":"SEARCH(Lookup!$J$3,B36)","v":{"$error":"#VALUE!"}},320,6,"Base/Time","CMS","A"]
[{"$f":"SEARCH(Lookup!$J$3,B37)","v":{"$error":"#VALUE!"}},322,3,"Base/Time","CMS","A"]
[{"$f":"SEARCH(Lookup!$J$3,B38)","v":{"$error":"#VALUE!"}},326,7,"Not Covered","N/A","X"]
[{"$f":"SEARCH(Lookup!$J$3,B39)","v":{"$error":"#VALUE!"}},350,10,"Base/Time","CMS","A"]
[{"$f":"SEARCH(Lookup!$J$3,B40)","v":{"$error":"#VALUE!"}},352,5,"Base/Time","CMS","A"]
[{"$f":"SEARCH(Lookup!$J$3,B41)","v":{"$error":"#VALUE!"}},400,3,"Base/Time","CMS","A"]
[{"$f":"SEARCH(Lookup!$J$3,B42)","v":{"$error":"#VALUE!"}},402,5,"Base/Time","CMS","A"]
[{"$f":"SEARCH(Lookup!$J$3,B43)","v":{"$error":"#VALUE!"}},404,5,"Base/Time","CMS","A"]
[{"$f":"SEARCH(Lookup!$J$3,B44)","v":{"$error":"#VALUE!"}},406,13,"Base/Time","CMS","A"]
[{"$f":"SEARCH(Lookup!$J$3,B45)","v":{"$error":"#VALUE!"}},410,4,"Base/Time","CMS","A"]
[{"$f":"SEARCH(Lookup!$J$3,B46)","v":{"$error":"#VALUE!"}},450,5,"Base/Time","CMS","A"]
[{"$f":"SEARCH(Lookup!$J$3,B47)","v":{"$error":"#VALUE!"}},454,3,"Base/Time","CMS","A"]
[{"$f":"SEARCH(Lookup!$J$3,B48)","v":{"$error":"#VALUE!"}},470,6,"Base/Time","CMS","A"]
[{"$f":"SEARCH(Lookup!$J$3,B49)","v":{"$error":"#VALUE!"}},472,10,"Base/Time","CMS","A"]
[{"$f":"SEARCH(Lookup!$J$3,B50)","v":{"$error":"#VALUE!"}},474,13,"Base/Time","CMS","A"]
[{"$f":"SEARCH(Lookup!$J$3,B51)","v":{"$error":"#VALUE!"}},500,15,"Base/Time","CMS","A"]
[{"$f":"SEARCH(Lookup!$J$3,B52)","v":{"$error":"#VALUE!"}},520,6,"Base/Time","CMS","A"]
[{"$f":"SEARCH(Lookup!$J$3,B53)","v":{"$error":"#VALUE!"}},522,4,"Base/Time","CMS","A"]
[{"$f":"SEARCH(Lookup!$J$3,B54)","v":{"$error":"#VALUE!"}},524,4,"Base/Time","CMS","A"]
[{"$f":"SEARCH(Lookup!$J$3,B55)","v":{"$error":"#VALUE!"}},528,8,"Base/Time","CMS","A"]
[{"$f":"SEARCH(Lookup!$J$3,B56)","v":{"$error":"#VALUE!"}},529,11,"Not Covered","N/A","X"]
[{"$f":"SEARCH(Lookup!$J$3,B57)","v":{"$error":"#VALUE!"}},530,4,"Base/Time","CMS","A"]
[{"$f":"SEARCH(Lookup!$J$3,B58)","v":{"$error":"#VALUE!"}},532,4,"Base/Time","CMS","A"]
[{"$f":"SEARCH(Lookup!$J$3,B59)","v":{"$error":"#VALUE!"}},534,7,"Base/Time","CMS","A"]
[{"$f":"SEARCH(Lookup!$J$3,B60)","v":{"$error":"#VALUE!"}},537,10,"Base/Time","CMS","A"]
[{"$f":"SEARCH(Lookup!$J$3,B61)","v":{"$error":"#VALUE!"}},539,18,"Base/Time","CMS","A"]
[{"$f":"SEARCH(Lookup!$J$3,B62)","v":{"$error":"#VALUE!"}},540,12,"Base/Time","CMS","A"]
[{"$f":"SEARCH(Lookup!$J$3,B63)","v":{"$error":"#VALUE!"}},541,15,"Base/Time","CMS","A"]
[{"$f":"SEARCH(Lookup!$J$3,B64)","v":{"$error":"#VALUE!"}},542,15,"Base/Time","CMS","A"]
[{"$f":"SEARCH(Lookup!$J$3,B65)","v":{"$error":"#VALUE!"}},546,15,"Base/Time","CMS","A"]
[{"$f":"SEARCH(Lookup!$J$3,B66)","v":{"$error":"#VALUE!"}},548,17,"Base/Time","CMS","A"]
[{"$f":"SEARCH(Lookup!$J$3,B67)","v":{"$error":"#VALUE!"}},550,10,"Base/Time","CMS","A"]
[{"$f":"SEARCH(Lookup!$J$3,B68)","v":{"$error":"#VALUE!"}},560,15,"Base/Time","CMS","A"]
[{"$f":"SEARCH(Lookup!$J$3,B69)","v":{"$error":"#VALUE!"}},561,25,"Not Covered","N/A","X"]
[{"$f":"SEARCH(Lookup!$J$3,B70)","v":{"$error":"#VALUE!"}},562,20,"Base/Time","CMS","A"]
[{"$f":"SEARCH(Lookup!$J$3,B71)","v":{"$error":"#VALUE!"}},563,25,"Base/Time","CMS","A"]
[{"$f":"SEARCH(Lookup!$J$3,B72)","v":{"$error":"#VALUE!"}},566,25,"Base/Time","CMS","A"]
[{"$f":"SEARCH(Lookup!$J$3,B73)","v":{"$error":"#VALUE!"}},567,18,"Base/Time","CMS","A"]
[{"$f":"SEARCH(Lookup!$J$3,B74)","v":{"$error":"#VALUE!"}},580,20,"Base/Time","CMS","A"]
[{"$f":"SEARCH(Lookup!$J$3,B75)","v":{"$error":"#VALUE!"}},600,10,"Base/Time","CMS","A"]
[{"$f":"SEARCH(Lookup!$J$3,B76)","v":{"$error":"#VALUE!"}},604,13,"Base/Time","CMS","A"]
[{"$f":"SEARCH(Lookup!$J$3,B77)","v":{"$error":"#VALUE!"}},620,10,"Base/Time","CMS","A"]
[{"$f":"SEARCH(Lookup!$J$3,B78)","v":{"$error":"#VALUE!"}},625,13,"Base/Time","CMS","A"]
[{"$f":"SEARCH(Lookup!$J$3,B79)","v":{"$error":"#VALUE!"}},626,15,"Base/Time","CMS","A"]
[{"$f":"SEARCH(Lookup!$J$3,B80)","v":{"$error":"#VALUE!"}},630,8,"Base/Time","CMS","A"]
[{"$f":"SEARCH(Lookup!$J$3,B81)","v":{"$error":"#VALUE!"}},632,7,"Base/Time","CMS","A"]
[{"$f":"SEARCH(Lookup!$J$3,B82)","v":{"$error":"#VALUE!"}},635,4,"Base/Time","CMS","A"]
[{"$f":"SEARCH(Lookup!$J$3,B83)","v":{"$error":"#VALUE!"}},640,3,"Base/Time","CMS","A"]
[{"$f":"SEARCH(Lookup!$J$3,B84)","v":{"$error":"#VALUE!"}},670,13,"Base/Time","CMS","A"]
[{"$f":"SEARCH(Lookup!$J$3,B85)","v":{"$error":"#VALUE!"}},700,4,"Base/Time","CMS","A"]
[{"$f":"SEARCH(Lookup!$J$3,B86)","v":{"$error":"#VALUE!"}},702,4,"Base/Time","CMS","A"]
[{"$f":"SEARCH(Lookup!$J$3,B87)","v":{"$error":"#VALUE!"}},730,5,"Base/Time","CMS","A"]
[{"$f":"SEARCH(Lookup!$J$3,B88)","v":{"$error":"#VALUE!"}},731,5,"Base/Time","CMS","A"]
[{"$f":"SEARCH(Lookup!$J$3,B89)","v":{"$error":"#VALUE!"}},732,6,"Base/Time","CMS","A"]
[{"$f":"SEARCH(Lookup!$J$3,B90)","v":{"$error":"#VALUE!"}},750,4,"Base/Time","CMS","A"]
[{"$f":"SEARCH(Lookup!$J$3,B91)","v":{"$error":"#VALUE!"}},752,6,"Base/Time","CMS","A"]
[{"$f":"SEARCH(Lookup!$J$3,B92)","v":{"$error":"#VALUE!"}},754,7,"Base/Time","CMS","A"]
[{"$f":"SEARCH(Lookup!$J$3,B93)","v":{"$error":"#VALUE!"}},756,7,"Base/Time","CMS","A"]
[{"$f":"SEARCH(Lookup!$J$3,B94)","v":{"$error":"#VALUE!"}},770,15,"Base/Time","CMS","A"]
[{"$f":"SEARCH(Lookup!$J$3,B95)","v":{"$error":"#VALUE!"}},790,7,"Base/Time","CMS","A"]
[{"$f":"SEARCH(Lookup!$J$3,B96)","v":{"$error":"#VALUE!"}},792,13,"Base/Time","CMS","A"]
[{"$f":"SEARCH(Lookup!$J$3,B97)","v":{"$error":"#VALUE!"}},794,8,"Base/Time","CMS","A"]
[{"$f":"SEARCH(Lookup!$J$3,B98)","v":{"$error":"#VALUE!"}},796,30,"Not Covered","N/A","A"]
[{"$f":"SEARCH(Lookup!$J$3,B99)","v":{"$error":"#VALUE!"}},797,11,"Base/Time","CMS","X"]
[{"$f":"SEARCH(Lookup!$J$3,B100)","v":{"$error":"#VALUE!"}},800,4,"Base/Time","CMS","A"]
[{"$f":"SEARCH(Lookup!$J$3,B101)","v":{"$error":"#VALUE!"}},802,5,"Base/Time","CMS","A"]
[{"$f":"SEARCH(Lookup!$J$3,B102)","v":{"$error":"#VALUE!"}},811,4,"Base/Time","CMS","A"]
[{"$f":"SEARCH(Lookup!$J$3,B103)","v":{"$error":"#VALUE!"}},812,3,"Base/Time","CMS","A"]
[{"$f":"SEARCH(Lookup!$J$3,B104)","v":{"$error":"#VALUE!"}},813,5,"Not Covered","N/A","A"]
[{"$f":"SEARCH(Lookup!$J$3,B105)","v":{"$error":"#VALUE!"}},820,5,"Not Covered","N/A","A"]
[{"$f":"SEARCH(Lookup!$J$3,B106)","v":{"$error":"#VALUE!"}},830,4,"Base/Time","CMS","A"]
[{"$f":"SEARCH(Lookup!$J$3,B107)","v":{"$error":"#VALUE!"}},832,6,"Base/Time","CMS","A"]
[{"$f":"SEARCH(Lookup!$J$3,B108)","v":{"$error":"#VALUE!"}},834,5,"Base/Time","CMS","X"]
[{"$f":"SEARCH(Lookup!$J$3,B109)","v":{"$error":"#VALUE!"}},836,6,"Base/Time","CMS","X"]
[{"$f":"SEARCH(Lookup!$J$3,B110)","v":{"$error":"#VALUE!"}},840,6,"Base/Time","CMS","A"]
[{"$f":"SEARCH(Lookup!$J$3,B111)","v":{"$error":"#VALUE!"}},842,4,"Not Covered","N/A","A"]
[{"$f":"SEARCH(Lookup!$J$3,B112)","v":{"$error":"#VALUE!"}},844,7,"Base/Time","CMS","A"]
[{"$f":"SEARCH(Lookup!$J$3,B113)","v":{"$error":"#VALUE!"}},846,8,"Base/Time","CMS","A"]
[{"$f":"SEARCH(Lookup!$J$3,B114)","v":{"$error":"#VALUE!"}},848,8,"Base/Time","CMS","A"]
[{"$f":"SEARCH(Lookup!$J$3,B115)","v":{"$error":"#VALUE!"}},851,6,"Base/Time","CMS","X"]
[{"$f":"SEARCH(Lookup!$J$3,B116)","v":{"$error":"#VALUE!"}},860,6,"Base/Time","CMS","A"]
[{"$f":"SEARCH(Lookup!$J$3,B117)","v":{"$error":"#VALUE!"}},862,7,"Base/Time","CMS","A"]
[{"$f":"SEARCH(Lookup!$J$3,B118)","v":{"$error":"#VALUE!"}},864,8,"Base/Time","CMS","A"]
[{"$f":"SEARCH(Lookup!$J$3,B119)","v":{"$error":"#VALUE!"}},865,7,"Base/Time","CMS","A"]
[{"$f":"SEARCH(Lookup!$J$3,B120)","v":{"$error":"#VALUE!"}},866,10,"Base/Time","CMS","A"]
[{"$f":"SEARCH(Lookup!$J$3,B121)","v":{"$error":"#VALUE!"}},868,10,"Base/Time","CMS","A"]
[{"$f":"SEARCH(Lookup!$J$3,B122)","v":{"$error":"#VALUE!"}},870,5,"Base/Time","CMS","A"]
[{"$f":"SEARCH(Lookup!$J$3,B123)","v":{"$error":"#VALUE!"}},872,7,"Base/Time","CMS","A"]
[{"$f":"SEARCH(Lookup!$J$3,B124)","v":{"$error":"#VALUE!"}},873,5,"Base/Time","CMS","A"]
[{"$f":"SEARCH(Lookup!$J$3,B125)","v":{"$error":"#VALUE!"}},880,15,"Base/Time","CMS","A"]
[{"$f":"SEARCH(Lookup!$J$3,B126)","v":{"$error":"#VALUE!"}},882,10,"Base/Time","CMS","A"]
[{"$f":"SEARCH(Lookup!$J$3,B127)","v":{"$error":"#VALUE!"}},902,5,"Base/Time","CMS","A"]
[{"$f":"SEARCH(Lookup!$J$3,B128)","v":{"$error":"#VALUE!"}},904,7,"Base/Time","CMS","A"]
[{"$f":"SEARCH(Lookup!$J$3,B129)","v":{"$error":"#VALUE!"}},906,4,"Base/Time","CMS","A"]
[{"$f":"SEARCH(Lookup!$J$3,B130)","v":{"$error":"#VALUE!"}},908,6,"Base/Time","CMS","A"]
[{"$f":"SEARCH(Lookup!$J$3,B131)","v":{"$error":"#VALUE!"}},910,3,"Base/Time","CMS","A"]
[{"$f":"SEARCH(Lookup!$J$3,B132)","v":{"$error":"#VALUE!"}},912,5,"Base/Time","CMS","A"]
[{"$f":"SEARCH(Lookup!$J$3,B133)","v":{"$error":"#VALUE!"}},914,5,"Base/Time","CMS","A"]
[{"$f":"SEARCH(Lookup!$J$3,B134)","v":{"$error":"#VALUE!"}},916,5,"Base/Time","CMS","A"]
[{"$f":"SEARCH(Lookup!$J$3,B135)","v":{"$error":"#VALUE!"}},918,5,"Base/Time","CMS","A"]
[{"$f":"SEARCH(Lookup!$J$3,B136)","v":{"$error":"#VALUE!"}},920,3,"Base/Time","CMS","A"]
[{"$f":"SEARCH(Lookup!$J$3,B137)","v":{"$error":"#VALUE!"}},921,3,"Base/Time","CMS","A"]
[{"$f":"SEARCH(Lookup!$J$3,B138)","v":{"$error":"#VALUE!"}},922,6,"Base/Time","CMS","A"]
[{"$f":"SEARCH(Lookup!$J$3,B139)","v":{"$error":"#VALUE!"}},924,4,"Base/Time","CMS","A"]
[{"$f":"SEARCH(Lookup!$J$3,B140)","v":{"$error":"#VALUE!"}},926,4,"Base/Time","CMS","A"]
[{"$f":"SEARCH(Lookup!$J$3,B141)","v":{"$error":"#VALUE!"}},928,6,"Base/Time","CMS","A"]
[{"$f":"SEARCH(Lookup!$J$3,B142)","v":{"$error":"#VALUE!"}},930,4,"Base/Time","CMS","A"]
[{"$f":"SEARCH(Lookup!$J$3,B143)","v":{"$error":"#VALUE!"}},932,4,"Base/Time","CMS","A"]
[{"$f":"SEARCH(Lookup!$J$3,B144)","v":{"$error":"#VALUE!"}},934,6,"Base/Time","CMS","A"]
[{"$f":"SEARCH(Lookup!$J$3,B145)","v":{"$error":"#VALUE!"}},936,8,"Base/Time","CMS","A"]
[{"$f":"SEARCH(Lookup!$J$3,B146)","v":{"$error":"#VALUE!"}},938,4,"Base/Time","CMS","A"]
[{"$f":"SEARCH(Lookup!$J$3,B147)","v":{"$error":"#VALUE!"}},940,3,"Base/Time","CMS","A"]
[{"$f":"SEARCH(Lookup!$J$3,B148)","v":{"$error":"#VALUE!"}},942,4,"Base/Time","CMS","A"]
[{"$f":"SEARCH(Lookup!$J$3,B149)","v":{"$error":"#VALUE!"}},944,6,"Base/Time","CMS","A"]
[{"$f":"SEARCH(Lookup!$J$3,B150)","v":{"$error":"#VALUE!"}},948,4,"Base/Time","CMS","A"]
[{"$f":"SEARCH(Lookup!$J$3,B151)","v":{"$error":"#VALUE!"}},950,5,"Base/Time","CMS","A"]
[{"$f":"SEARCH(Lookup!$J$3,B152)","v":{"$error":"#VALUE!"}},952,4,"Base/Time","CMS","A"]
[{"$f":"SEARCH(Lookup!$J$3,B153)","v":{"$error":"#VALUE!"}},1112,5,"Base/Time","CMS","A"]
[{"$f":"SEARCH(Lookup!$J$3,B154)","v":{"$error":"#VALUE!"}},1120,6,"Base/Time","CMS","A"]
[{"$f":"SEARCH(Lookup!$J$3,B155)","v":{"$error":"#VALUE!"}},1130,3,"Base/Time","CMS","A"]
[{"$f":"SEARCH(Lookup!$J$3,B156)","v":{"$error":"#VALUE!"}},1140,15,"Base/Time","CMS","A"]
[{"$f":"SEARCH(Lookup!$J$3,B157)","v":{"$error":"#VALUE!"}},1150,10,"Base/Time","CMS","A"]
[{"$f":"SEARCH(Lookup!$J$3,B158)","v":{"$error":"#VALUE!"}},1160,4,"Base/Time","CMS","A"]
[{"$f":"SEARCH(Lookup!$J$3,B159)","v":{"$error":"#VALUE!"}},1170,8,"Base/Time","CMS","A"]
[{"$f":"SEARCH(Lookup!$J$3,B160)","v":{"$error":"#VALUE!"}},1173,12,"Base/Time","CMS","A"]
[{"$f":"SEARCH(Lookup!$J$3,B161)","v":{"$error":"#VALUE!"}},1200,4,"Base/Time","CMS","A"]
[{"$f":"SEARCH(Lookup!$J$3,B162)","v":{"$error":"#VALUE!"}},1202,4,"Base/Time","CMS","A"]
[{"$f":"SEARCH(Lookup!$J$3,B163)","v":{"$error":"#VALUE!"}},1210,6,"Base/Time","CMS","A"]
[{"$f":"SEARCH(Lookup!$J$3,B164)","v":{"$error":"#VALUE!"}},1212,10,"Base/Time","CMS","A"]
[{"$f":"SEARCH(Lookup!$J$3,B165)","v":{"$error":"#VALUE!"}},1214,8,"Base/Time","CMS","A"]
[{"$f":"SEARCH(Lookup!$J$3,B166)","v":{"$error":"#VALUE!"}},1215,10,"Base/Time","CMS","A"]
[{"$f":"SEARCH(Lookup!$J$3,B167)","v":{"$error":"#VALUE!"}},1220,4,"Base/Time","CMS","A"]
[{"$f":"SEARCH(Lookup!$J$3,B168)","v":{"$error":"#VALUE!"}},1230,6,"Base/Time","CMS","A"]
[{"$f":"SEARCH(Lookup!$J$3,B169)","v":{"$error":"#VALUE!"}},1232,5,"Base/Time","CMS","A"]
[{"$f":"SEARCH(Lookup!$J$3,B170)","v":{"$error":"#VALUE!"}},1234,8,"Base/Time","CMS","A"]
[{"$f":"SEARCH(Lookup!$J$3,B171)","v":{"$error":"#VALUE!"}},1250,4,"Base/Time","CMS","A"]
[{"$f":"SEARCH(Lookup!$J$3,B172)","v":{"$error":"#VALUE!"}},1260,3,"Base/Time","CMS","A"]
[{"$f":"SEARCH(Lookup!$J$3,B173)","v":{"$error":"#VALUE!"}},1270,8,"Base/Time","CMS","A"]
[{"$f":"SEARCH(Lookup!$J$3,B174)","v":{"$error":"#VALUE!"}},1272,4,"Base/Time","CMS","A"]
[{"$f":"SEARCH(Lookup!$J$3,B175)","v":{"$error":"#VALUE!"}},1274,6,"Base/Time","CMS","A"]
[{"$f":"SEARCH(Lookup!$J$3,B176)","v":{"$error":"#VALUE!"}},1320,4,"Base/Time","CMS","A"]
[{"$f":"SEARCH(Lookup!$J$3,B177)","v":{"$error":"#VALUE!"}},1340,4,"Base/Time","CMS","A"]
[{"$f":"SEARCH(Lookup!$J$3,B178)","v":{"$error":"#VALUE!"}},1360,5,"Base/Time","CMS","A"]
[{"$f":"SEARCH(Lookup!$J$3,B179)","v":{"$error":"#VALUE!"}},1380,3,"Base/Time","CMS","A"]
[{"$f":"SEARCH(Lookup!$J$3,B180)","v":{"$error":"#VALUE!"}},1382,3,"Base/Time","CMS","A"]
[{"$f":"SEARCH(Lookup!$J$3,B181)","v":{"$error":"#VALUE!"}},1390,3,"Base/Time","CMS","A"]
[{"$f":"SEARCH(Lookup!$J$3,B182)","v":{"$error":"#VALUE!"}},1392,4,"Base/Time","CMS","A"]
[{"$f":"SEARCH(Lookup!$J$3,B183)","v":{"$error":"#VALUE!"}},1400,4,"Base/Time","CMS","A"]
[{"$f":"SEARCH(Lookup!$J$3,B184)","v":{"$error":"#VALUE!"}},1402,7,"Base/Time","CMS","A"]
[{"$f":"SEARCH(Lookup!$J$3,B185)","v":{"$error":"#VALUE!"}},1404,5,"Base/Time","CMS","A"]
[{"$f":"SEARCH(Lookup!$J$3,B186)","v":{"$error":"#VALUE!"}},1420,3,"Base/Time","CMS","A"]
[{"$f":"SEARCH(Lookup!$J$3,B187)","v":{"$error":"#VALUE!"}},1430,3,"Base/Time","CMS","A"]
[{"$f":"SEARCH(Lookup!$J$3,B188)","v":{"$error":"#VALUE!"}},1432,6,"Base/Time","CMS","A"]
[{"$f":"SEARCH(Lookup!$J$3,B189)","v":{"$error":"#VALUE!"}},1440,8,"Base/Time","CMS","A"]
[{"$f":"SEARCH(Lookup!$J$3,B190)","v":{"$error":"#VALUE!"}},1442,8,"Base/Time","CMS","A"]
[{"$f":"SEARCH(Lookup!$J$3,B191)","v":{"$error":"#VALUE!"}},1444,8,"Base/Time","CMS","A"]
[{"$f":"SEARCH(Lookup!$J$3,B192)","v":{"$error":"#VALUE!"}},1462,3,"Base/Time","CMS","A"]
[{"$f":"SEARCH(Lookup!$J$3,B193)","v":{"$error":"#VALUE!"}},1464,3,"Base/Time","CMS","A"]
[{"$f":"SEARCH(Lookup!$J$3,B194)","v":{"$error":"#VALUE!"}},1470,3,"Base/Time","CMS","A"]
[{"$f":"SEARCH(Lookup!$J$3,B195)","v":{"$error":"#VALUE!"}},1472,5,"Base/Time","CMS","A"]
[{"$f":"SEARCH(Lookup!$J$3,B196)","v":{"$error":"#VALUE!"}},1474,5,"Base/Time","CMS","A"]
[{"$f":"SEARCH(Lookup!$J$3,B197)","v":{"$error":"#VALUE!"}},1480,3,"Base/Time","CMS","A"]
[{"$f":"SEARCH(Lookup!$J$3,B198)","v":{"$error":"#VALUE!"}},1482,4,"Base/Time","CMS","A"]
[{"$f":"SEARCH(Lookup!$J$3,B199)","v":{"$error":"#VALUE!"}},1484,4,"Base/Time","CMS","A"]
[{"$f":"SEARCH(Lookup!$J$3,B200)","v":{"$error":"#VALUE!"}},1486,7,"Base/Time","CMS","A"]
[{"$f":"SEARCH(Lookup!$J$3,B201)","v":{"$error":"#VALUE!"}},1490,3,"Base/Time","CMS","A"]
[{"$f":"SEARCH(Lookup!$J$3,B202)","v":{"$error":"#VALUE!"}},1500,8,"Base/Time","CMS","A"]
[{"$f":"SEARCH(Lookup!$J$3,B203)","v":{"$error":"#VALUE!"}},1502,6,"Base/Time","CMS","A"]
[{"$f":"SEARCH(Lookup!$J$3,B204)","v":{"$error":"#VALUE!"}},1520,3,"Base/Time","CMS","A"]
[{"$f":"SEARCH(Lookup!$J$3,B205)","v":{"$error":"#VALUE!"}},1522,5,"Base/Time","CMS","A"]
[{"$f":"SEARCH(Lookup!$J$3,B206)","v":{"$error":"#VALUE!"}},1610,5,"Base/Time","CMS","A"]
[{"$f":"SEARCH(Lookup!$J$3,B207)","v":{"$error":"#VALUE!"}},1620,4,"Base/Time","CMS","A"]
[{"$f":"SEARCH(Lookup!$J$3,B208)","v":{"$error":"#VALUE!"}},1622,4,"Base/Time","CMS","A"]
[{"$f":"SEARCH(Lookup!$J$3,B209)","v":{"$error":"#VALUE!"}},1630,5,"Base/Time","CMS","A"]
[{"$f":"SEARCH(Lookup!$J$3,B210)","v":{"$error":"#VALUE!"}},1634,9,"Base/Time","CMS","A"]
[{"$f":"SEARCH(Lookup!$J$3,B211)","v":{"$error":"#VALUE!"}},1636,15,"Base/Time","CMS","A"]
[{"$f":"SEARCH(Lookup!$J$3,B212)","v":{"$error":"#VALUE!"}},1638,10,"Base/Time","CMS","A"]
[{"$f":"SEARCH(Lookup!$J$3,B213)","v":{"$error":"#VALUE!"}},1650,6,"Base/Time","CMS","A"]
[{"$f":"SEARCH(Lookup!$J$3,B214)","v":{"$error":"#VALUE!"}},1652,10,"Base/Time","CMS","A"]
[{"$f":"SEARCH(Lookup!$J$3,B215)","v":{"$error":"#VALUE!"}},1654,8,"Base/Time","CMS","A"]
[{"$f":"SEARCH(Lookup!$J$3,B216)","v":{"$error":"#VALUE!"}},1656,10,"Base/Time","CMS","A"]
[{"$f":"SEARCH(Lookup!$J$3,B217)","v":{"$error":"#VALUE!"}},1670,4,"Base/Time","CMS","A"]
[{"$f":"SEARCH(Lookup!$J$3,B218)","v":{"$error":"#VALUE!"}},1680,3,"Base/Time","CMS","A"]
[{"$f":"SEARCH(Lookup!$J$3,B219)","v":{"$error":"#VALUE!"}},1710,3,"Base/Time","CMS","A"]
[{"$f":"SEARCH(Lookup!$J$3,B220)","v":{"$error":"#VALUE!"}},1712,5,"Base/Time","CMS","A"]
[{"$f":"SEARCH(Lookup!$J$3,B221)","v":{"$error":"#VALUE!"}},1714,5,"Base/Time","CMS","A"]
[{"$f":"SEARCH(Lookup!$J$3,B222)","v":{"$error":"#VALUE!"}},1716,5,"Base/Time","CMS","A"]
[{"$f":"SEARCH(Lookup!$J$3,B223)","v":{"$error":"#VALUE!"}},1730,3,"Base/Time","CMS","A"]
[{"$f":"SEARCH(Lookup!$J$3,B224)","v":{"$error":"#VALUE!"}},1732,3,"Base/Time","CMS","A"]
[{"$f":"SEARCH(Lookup!$J$3,B225)","v":{"$error":"#VALUE!"}},1740,4,"Base/Time","CMS","A"]
[{"$f":"SEARCH(Lookup!$J$3,B226)","v":{"$error":"#VALUE!"}},1742,5,"Base/Time","CMS","A"]
[{"$f":"SEARCH(Lookup!$J$3,B227)","v":{"$error":"#VALUE!"}},1744,5,"Base/Time","CMS","A"]
[{"$f":"SEARCH(Lookup!$J$3,B228)","v":{"$error":"#VALUE!"}},1756,6,"Base/Time","CMS","A"]
[{"$f":"SEARCH(Lookup!$J$3,B229)","v":{"$error":"#VALUE!"}},1758,5,"Base/Time","CMS","A"]
[{"$f":"SEARCH(Lookup!$J$3,B230)","v":{"$error":"#VALUE!"}},1760,7,"Base/Time","CMS","A"]
[{"$f":"SEARCH(Lookup!$J$3,B231)","v":{"$error":"#VALUE!"}},1770,6,"Base/Time","CMS","A"]
[{"$f":"SEARCH(Lookup!$J$3,B232)","v":{"$error":"#VALUE!"}},1772,6,"Base/Time","CMS","A"]
[{"$f":"SEARCH(Lookup!$J$3,B233)","v":{"$error":"#VALUE!"}},1780,3,"Base/Time","CMS","A"]
[{"$f":"SEARCH(Lookup!$J$3,B234)","v":{"$error":"#VALUE!"}},1782,4,"Base/Time","CMS","A"]
[{"$f":"SEARCH(Lookup!$J$3,B235)","v":{"$error":"#VALUE!"}},1810,3,"Base/Time","CMS","A"]
[{"$f":"SEARCH(Lookup!$J$3,B236)","v":{"$error":"#VALUE!"}},1820,3,"Base/Time","CMS","A"]
[{"$f":"SEARCH(Lookup!$J$3,B237)","v":{"$error":"#VALUE!"}},1829,3,"Base/Time","CMS","A"]
[{"$f":"SEARCH(Lookup!$J$3,B238)","v":{"$error":"#VALUE!"}},1830,3,"Base/Time","CMS","A"]
[{"$f":"SEARCH(Lookup!$J$3,B239)","v":{"$error":"#VALUE!"}},1832,6,"Base/Time","CMS","A"]
[{"$f":"SEARCH(Lookup!$J$3,B240)","v":{"$error":"#VALUE!"}},1840,6,"Base/Time","CMS","A"]
[{"$f":"SEARCH(Lookup!$J$3,B241)","v":{"$error":"#VALUE!"}},1842,6,"Base/Time","CMS","A"]
[{"$f":"SEARCH(Lookup!$J$3,B242)","v":{"$error":"#VALUE!"}},1844,6,"Base/Time","CMS","A"]
[{"$f":"SEARCH(Lookup!$J$3,B243)","v":{"$error":"#VALUE!"}},1850,3,"Base/Time","CMS","A"]
[{"$f":"SEARCH(Lookup!$J$3,B244)","v":{"$error":"#VALUE!"}},1852,4,"Base/Time","CMS","A"]
[{"$f":"SEARCH(Lookup!$J$3,B245)","v":{"$error":"#VALUE!"}},1860,3,"Base/Time","CMS","A"]
[{"$f":"SEARCH(Lookup!$J$3,B246)","v":{"$error":"#VALUE!"}},1916,5,"Base/Time","CMS","A"]
[{"$f":"SEARCH(Lookup!$J$3,B247)","v":{"$error":"#VALUE!"}},1920,7,"Base/Time","CMS","A"]
[{"$f":"SEARCH(Lookup!$J$3,B248)","v":{"$error":"#VALUE!"}},1922,7,"Base/Time","CMS","A"]
[{"$f":"SEARCH(Lookup!$J$3,B249)","v":{"$error":"#VALUE!"}},1924,5,"Base/Time","CMS","A"]
[{"$f":"SEARCH(Lookup!$J$3,B250)","v":{"$error":"#VALUE!"}},1925,7,"Base/Time","CMS","A"]
[{"$f":"SEARCH(Lookup!$J$3,B251)","v":{"$error":"#VALUE!"}},1926,8,"Base/Time","CMS","A"]
[{"$f":"SEARCH(Lookup!$J$3,B252)","v":{"$error":"#VALUE!"}},1930,5,"Base/Time","CMS","A"]
[{"$f":"SEARCH(Lookup!$J$3,B253)","v":{"$error":"#VALUE!"}},1931,7,"Base/Time","CMS","A"]
[{"$f":"SEARCH(Lookup!$J$3,B254)","v":{"$error":"#VALUE!"}},1932,6,"Base/Time","CMS","A"]
[{"$f":"SEARCH(Lookup!$J$3,B255)","v":{"$error":"#VALUE!"}},1933,7,"Base/Time","CMS","A"]
[{"$f":"SEARCH(Lookup!$J$3,B256)","v":{"$error":"#VALUE!"}},1937,4,"Base/Time","CMS","A"]
[{"$f":"SEARCH(Lookup!$J$3,B257)","v":{"$error":"#VALUE!"}},1938,4,"Base/Time","CMS","A"]
[{"$f":"SEARCH(Lookup!$J$3,B258)","v":{"$error":"#VALUE!"}},1939,4,"Base/Time","CMS","A"]
[{"$f":"SEARCH(Lookup!$J$3,B259)","v":{"$error":"#VALUE!"}},1940,4,"Base/Time","CMS","A"]
[{"$f":"SEARCH(Lookup!$J$3,B260)","v":{"$error":"#VALUE!"}},1941,5,"Base/Time","CMS","A"]
[{"$f":"SEARCH(Lookup!$J$3,B261)","v":{"$error":"#VALUE!"}},1942,5,"Base/Time","CMS","A"]
[{"$f":"SEARCH(Lookup!$J$3,B262)","v":{"$error":"#VALUE!"}},1951,3,"Base/Time","CMS","A"]
[{"$f":"SEARCH(Lookup!$J$3,B263)","v":{"$error":"#VALUE!"}},1952,5,"Base/Time","CMS","A"]
[{"$f":"SEARCH(Lookup!$J$3,B264)","v":{"$error":"#VALUE!"}},1953,56.25,"Maximum Fee","N/A","F"]
[{"$f":"SEARCH(Lookup!$J$3,B265)","v":{"$error":"#VALUE!"}},1958,5,"Base/Time","CMS","A"]
[{"$f":"SEARCH(Lookup!$J$3,B266)","v":{"$error":"#VALUE!"}},1960,5,"Base/Time","CMS","A"]
[{"$f":"SEARCH(Lookup!$J$3,B267)","v":{"$error":"#VALUE!"}},1961,7,"Base/Time","CMS","A"]
[{"$f":"SEARCH(Lookup!$J$3,B268)","v":{"$error":"#VALUE!"}},1962,8,"Base/Time","CMS","A"]
[{"$f":"SEARCH(Lookup!$J$3,B269)","v":{"$error":"#VALUE!"}},1963,8,"Base/Time","CMS","A"]
[{"$f":"SEARCH(Lookup!$J$3,B270)","v":{"$error":"#VALUE!"}},1965,4,"Base/Time","CMS","A"]
[{"$f":"SEARCH(Lookup!$J$3,B271)","v":{"$error":"#VALUE!"}},1966,4,"Base/Time","CMS","A"]
[null,1967,5,"Base/Time","CMS","A"]
[null,1968,2,"Base/Time","CMS","A"]
[null,1969,5,"Base/Time","CMS","A"]
[null,1990,7,"Base/Time","CMS","A"]
[null,1991,3,"Base/Time","CMS","A"]
[null,1992,5,"Base/Time","CMS","A"]
[null,1996,74.66,"Maximum Fee","N/A","F"]
[null,1999,0,"By Report","N/A","N"]